BEGIN:VCALENDAR
VERSION:2.0
PRODID:spatie/icalendar-generator
DESCRIPTION:Wydarzenia z Parafia Stasikówka
X-WR-CALDESC:Wydarzenia z Parafia Stasikówka
REFRESH-INTERVAL;VALUE=DURATION:PT1440M
X-PUBLISHED-TTL:PT1440M
BEGIN:VTIMEZONE
TZID:Europe/Warsaw
BEGIN:STANDARD
DTSTART:20221030T030000Z
TZOFFSETFROM:+0200
TZOFFSETTO:+0100
END:STANDARD
BEGIN:DAYLIGHT
DTSTART:20230326T020000Z
TZOFFSETFROM:+0100
TZOFFSETTO:+0200
END:DAYLIGHT
END:VTIMEZONE
BEGIN:VTIMEZONE
TZID:UTC
BEGIN:STANDARD
DTSTART:20250725T103158Z
TZOFFSETFROM:+0000
TZOFFSETTO:+0000
END:STANDARD
END:VTIMEZONE
BEGIN:VEVENT
UID:1544-1507
DTSTAMP:20260421T103158Z
SUMMARY:Dziękczynna z prośbą o błogosł. Boże i wszelkie łaski dla Ł
 ucji Długopolskiej z okazji Roczku.
LOCATION:
ORGANIZER;CN=Daniel Smok:MAILTO:danielsmok@interia.pl
DTSTART;TZID=Europe/Warsaw:20230305T200000
DTEND;TZID=Europe/Warsaw:20230305T210000
X-ALT-DESC;FMTTYPE=TEXT/HTML:
CATEGORIES:O błogosławieństwo Boże
URL;VALUE=URI:https://stasikowka.com/mc-events/dziekczynna-z-prosba-o-blogo
 sl-boze-i-wszelkie-laski-dla-lucji-dlugopolskiej-z-okazji-roczku/
METHOD:PUBLISH
END:VEVENT
END:VCALENDAR