BEGIN:VCALENDAR
VERSION:2.0
PRODID:spatie/icalendar-generator
DESCRIPTION:Wydarzenia z Parafia Stasikówka
X-WR-CALDESC:Wydarzenia z Parafia Stasikówka
REFRESH-INTERVAL;VALUE=DURATION:PT1440M
X-PUBLISHED-TTL:PT1440M
BEGIN:VTIMEZONE
TZID:Europe/Warsaw
BEGIN:STANDARD
DTSTART:20231029T030000Z
TZOFFSETFROM:+0200
TZOFFSETTO:+0100
END:STANDARD
BEGIN:DAYLIGHT
DTSTART:20240331T020000Z
TZOFFSETFROM:+0100
TZOFFSETTO:+0200
END:DAYLIGHT
END:VTIMEZONE
BEGIN:VTIMEZONE
TZID:UTC
BEGIN:STANDARD
DTSTART:20250725T085107Z
TZOFFSETFROM:+0000
TZOFFSETTO:+0000
END:STANDARD
END:VTIMEZONE
BEGIN:VEVENT
UID:2066-2027
DTSTAMP:20260421T085107Z
SUMMARY:O zdrowie dla Małgorzaty\, Józefa i Katarzyny
LOCATION:
ORGANIZER;CN=Daniel Smok:MAILTO:danielsmok@interia.pl
DTSTART;TZID=Europe/Warsaw:20240305T180000
DTEND;TZID=Europe/Warsaw:20240305T190000
X-ALT-DESC;FMTTYPE=TEXT/HTML:
CATEGORIES:Intencje za zdrowie
URL;VALUE=URI:https://stasikowka.com/mc-events/o-zdrowie-dla-malgorzaty-joz
 efa-i-katarzyny/
METHOD:PUBLISH
END:VEVENT
END:VCALENDAR