BEGIN:VCALENDAR
VERSION:2.0
PRODID:spatie/icalendar-generator
DESCRIPTION:Wydarzenia z Parafia Stasikówka
X-WR-CALDESC:Wydarzenia z Parafia Stasikówka
REFRESH-INTERVAL;VALUE=DURATION:PT1440M
X-PUBLISHED-TTL:PT1440M
BEGIN:VTIMEZONE
TZID:Europe/Warsaw
BEGIN:DAYLIGHT
DTSTART:20240331T020000Z
TZOFFSETFROM:+0100
TZOFFSETTO:+0200
END:DAYLIGHT
BEGIN:STANDARD
DTSTART:20241027T030000Z
TZOFFSETFROM:+0200
TZOFFSETTO:+0100
END:STANDARD
END:VTIMEZONE
BEGIN:VTIMEZONE
TZID:UTC
BEGIN:STANDARD
DTSTART:20250726T025427Z
TZOFFSETFROM:+0000
TZOFFSETTO:+0000
END:STANDARD
END:VTIMEZONE
BEGIN:VEVENT
UID:2300-2261
DTSTAMP:20260422T025427Z
SUMMARY:Dziękczynna z prośbą o błogosł. Boże\, opiekę Matki Bożej\,
  zdrowie i wszelkie potrzebne łaski dla Andrzejka w 2 r. urodzin
LOCATION:
ORGANIZER;CN=Daniel Smok:MAILTO:danielsmok@interia.pl
DTSTART;TZID=Europe/Warsaw:20240825T110000
DTEND;TZID=Europe/Warsaw:20240825T120000
X-ALT-DESC;FMTTYPE=TEXT/HTML:
CATEGORIES:O błogosławieństwo Boże
URL;VALUE=URI:https://stasikowka.com/mc-events/dziekczynna-z-prosba-o-blogo
 sl-boze-opieke-matki-bozej-zdrowie-i-wszelkie-potrzebne-laski-dla-andrzejk
 a-w-2-r-urodzin/
METHOD:PUBLISH
END:VEVENT
END:VCALENDAR