BEGIN:VCALENDAR
VERSION:2.0
PRODID:spatie/icalendar-generator
DESCRIPTION:Wydarzenia z Parafia Stasikówka
X-WR-CALDESC:Wydarzenia z Parafia Stasikówka
REFRESH-INTERVAL;VALUE=DURATION:PT1440M
X-PUBLISHED-TTL:PT1440M
BEGIN:VTIMEZONE
TZID:Europe/Warsaw
BEGIN:STANDARD
DTSTART:20251026T030000Z
TZOFFSETFROM:+0200
TZOFFSETTO:+0100
END:STANDARD
BEGIN:DAYLIGHT
DTSTART:20260329T020000Z
TZOFFSETFROM:+0100
TZOFFSETTO:+0200
END:DAYLIGHT
BEGIN:STANDARD
DTSTART:20261025T030000Z
TZOFFSETFROM:+0200
TZOFFSETTO:+0100
END:STANDARD
END:VTIMEZONE
BEGIN:VTIMEZONE
TZID:UTC
BEGIN:STANDARD
DTSTART:20250725T074223Z
TZOFFSETFROM:+0000
TZOFFSETTO:+0000
END:STANDARD
END:VTIMEZONE
BEGIN:VEVENT
UID:3157-3114
DTSTAMP:20260421T074223Z
SUMMARY:Dziękczynna za otrzymane łaski z prośbą o błogosławieństwo B
 oże i opiekę św. Józefa i patrona dla Stanisława Stasik z ok. urodzin
 .
LOCATION:
ORGANIZER;CN=Daniel Smok:MAILTO:danielsmok@interia.pl
DTSTART;TZID=Europe/Warsaw:20260426T200000
DTEND;TZID=Europe/Warsaw:20260426T210000
X-ALT-DESC;FMTTYPE=TEXT/HTML:
CATEGORIES:Intencje dziękczynne
URL;VALUE=URI:https://stasikowka.com/mc-events/dziekczynna-za-otrzymane-las
 ki-z-prosba-o-blogoslawienstwo-boze-i-opieke-sw-jozefa-i-patrona-dla-stani
 slawa-stasik-z-ok-urodzin/
METHOD:PUBLISH
END:VEVENT
END:VCALENDAR