BEGIN:VCALENDAR
VERSION:2.0
PRODID:spatie/icalendar-generator
DESCRIPTION:Wydarzenia z Parafia Stasikówka
X-WR-CALDESC:Wydarzenia z Parafia Stasikówka
REFRESH-INTERVAL;VALUE=DURATION:PT1440M
X-PUBLISHED-TTL:PT1440M
BEGIN:VTIMEZONE
TZID:Europe/Warsaw
BEGIN:STANDARD
DTSTART:20231029T030000Z
TZOFFSETFROM:+0200
TZOFFSETTO:+0100
END:STANDARD
BEGIN:DAYLIGHT
DTSTART:20240331T020000Z
TZOFFSETFROM:+0100
TZOFFSETTO:+0200
END:DAYLIGHT
END:VTIMEZONE
BEGIN:VTIMEZONE
TZID:UTC
BEGIN:STANDARD
DTSTART:20250724T231802Z
TZOFFSETFROM:+0000
TZOFFSETTO:+0000
END:STANDARD
END:VTIMEZONE
BEGIN:VEVENT
UID:2075-2036
DTSTAMP:20260420T231802Z
SUMMARY:Dziękczynna z prośbą o błogosł. Boże dla Zofii i Jana Smalec 
 z Rodziną
LOCATION:
ORGANIZER;CN=Daniel Smok:MAILTO:danielsmok@interia.pl
DTSTART;TZID=Europe/Warsaw:20240311T180000
DTEND;TZID=Europe/Warsaw:20240311T190000
X-ALT-DESC;FMTTYPE=TEXT/HTML:
CATEGORIES:Intencje dziękczynne
URL;VALUE=URI:https://stasikowka.com/mc-events/dziekczynna-z-prosba-o-blogo
 sl-boze-dla-zofii-i-jana-smalec-z-rodzina/
METHOD:PUBLISH
END:VEVENT
END:VCALENDAR