BEGIN:VCALENDAR
VERSION:2.0
PRODID:spatie/icalendar-generator
DESCRIPTION:Wydarzenia z Parafia Stasikówka
X-WR-CALDESC:Wydarzenia z Parafia Stasikówka
REFRESH-INTERVAL;VALUE=DURATION:PT1440M
X-PUBLISHED-TTL:PT1440M
BEGIN:VTIMEZONE
TZID:Europe/Warsaw
BEGIN:STANDARD
DTSTART:20241027T030000Z
TZOFFSETFROM:+0200
TZOFFSETTO:+0100
END:STANDARD
BEGIN:DAYLIGHT
DTSTART:20250330T020000Z
TZOFFSETFROM:+0100
TZOFFSETTO:+0200
END:DAYLIGHT
END:VTIMEZONE
BEGIN:VTIMEZONE
TZID:UTC
BEGIN:STANDARD
DTSTART:20250729T160439Z
TZOFFSETFROM:+0000
TZOFFSETTO:+0000
END:STANDARD
END:VTIMEZONE
BEGIN:VEVENT
UID:2494-2455
DTSTAMP:20260425T160439Z
SUMMARY:+ Helena i Franciszek Walkosz\, synowie: Franciszek i Irena żona\,
  oraz Władysław i Józef.
LOCATION:
ORGANIZER;CN=Daniel Smok:MAILTO:danielsmok@interia.pl
DTSTART;TZID=Europe/Warsaw:20250105T200000
DTEND;TZID=Europe/Warsaw:20250105T210000
X-ALT-DESC;FMTTYPE=TEXT/HTML:
CATEGORIES:Intencje za dusze
URL;VALUE=URI:https://stasikowka.com/mc-events/helena-i-franciszek-walkosz-
 synowie-franciszek-i-irena-zona-oraz-wladyslaw-i-jozef/
METHOD:PUBLISH
END:VEVENT
END:VCALENDAR